BEGIN:VCALENDAR
VERSION:2.0
METHOD:PUBLISH
PRODID:-//imacoda.com//SPD-Web-O-Mat//EN
CALSCALE:GREGORIAN
BEGIN:VTIMEZONE
TZID:Europe/Berlin
BEGIN:DAYLIGHT
TZOFFSETFROM:+0100
RRULE:FREQ=YEARLY;BYMONTH=3;BYDAY=-1SU
DTSTART:19810329T020000
TZNAME:MESZ
TZOFFSETTO:+0200
END:DAYLIGHT
BEGIN:STANDARD
TZOFFSETFROM:+0200
RRULE:FREQ=YEARLY;BYMONTH=10;BYDAY=-1SU
DTSTART:19961027T030000
TZNAME:MEZ
TZOFFSETTO:+0100
END:STANDARD
END:VTIMEZONE
BEGIN:VEVENT
UID:20260424T101258Z-00001187867-LULU@www.bayernspd.de
CREATED:20260424T101258Z
LAST-MODIFIED:20260424T101258Z
DTSTAMP:20260424T101258Z
TRANSP:TRANSPARENT
DTSTART;TZID=Europe/Berlin:20260515T180000
DTEND;TZID=Europe/Berlin:20260515T180000
SUMMARY:Mitgliederversammlung mit Neuwahlen
LOCATION:Klosterwirt Thierhaupten\, Klosterberg 8\, 86672 Thierhaupten
DESCRIPTION:Termin im Web (SPD Thierhaupten):\nhttps://spd-thierhaupten.
 de/termine/?id=1187867
END:VEVENT
END:VCALENDAR
